BEGIN:VCALENDAR
VERSION:2.0
PRODID:-//Schalmeienorchester Lindau Rudelsdorf 1970 - ECPv6.15.18//NONSGML v1.0//EN
CALSCALE:GREGORIAN
METHOD:PUBLISH
X-ORIGINAL-URL:https://schalmeienmusik.de
X-WR-CALDESC:Veranstaltungen für Schalmeienorchester Lindau Rudelsdorf 1970
REFRESH-INTERVAL;VALUE=DURATION:PT1H
X-Robots-Tag:noindex
X-PUBLISHED-TTL:PT1H
BEGIN:VTIMEZONE
TZID:Europe/Berlin
BEGIN:DAYLIGHT
TZOFFSETFROM:+0100
TZOFFSETTO:+0200
TZNAME:CEST
DTSTART:20250330T010000
END:DAYLIGHT
BEGIN:STANDARD
TZOFFSETFROM:+0200
TZOFFSETTO:+0100
TZNAME:CET
DTSTART:20251026T010000
END:STANDARD
BEGIN:DAYLIGHT
TZOFFSETFROM:+0100
TZOFFSETTO:+0200
TZNAME:CEST
DTSTART:20260329T010000
END:DAYLIGHT
BEGIN:STANDARD
TZOFFSETFROM:+0200
TZOFFSETTO:+0100
TZNAME:CET
DTSTART:20261025T010000
END:STANDARD
BEGIN:DAYLIGHT
TZOFFSETFROM:+0100
TZOFFSETTO:+0200
TZNAME:CEST
DTSTART:20270328T010000
END:DAYLIGHT
BEGIN:STANDARD
TZOFFSETFROM:+0200
TZOFFSETTO:+0100
TZNAME:CET
DTSTART:20271031T010000
END:STANDARD
END:VTIMEZONE
BEGIN:VEVENT
DTSTART;TZID=Europe/Berlin:20260306T183000
DTEND;TZID=Europe/Berlin:20260306T210000
DTSTAMP:20260422T213407
CREATED:20260305T225912Z
LAST-MODIFIED:20260305T230246Z
UID:2301-1772821800-1772830800@schalmeienmusik.de
SUMMARY:Gesamtprobe
DESCRIPTION:
URL:https://schalmeienmusik.de/event/gesamtprobe-27/
LOCATION:Saal Lindau\, Waldblick 6\, Heideland\, Thüringen\, 07613\, Deutschland
CATEGORIES:Probe
END:VEVENT
BEGIN:VEVENT
DTSTART;TZID=Europe/Berlin:20260313T183000
DTEND;TZID=Europe/Berlin:20260313T210000
DTSTAMP:20260422T213407
CREATED:20260309T093408Z
LAST-MODIFIED:20260309T093408Z
UID:2304-1773426600-1773435600@schalmeienmusik.de
SUMMARY:Gesamtprobe
DESCRIPTION:
URL:https://schalmeienmusik.de/event/gesamtprobe-28/
LOCATION:Saal Lindau\, Waldblick 6\, Heideland\, Thüringen\, 07613\, Deutschland
CATEGORIES:Probe
END:VEVENT
BEGIN:VEVENT
DTSTART;TZID=Europe/Berlin:20260320T183000
DTEND;TZID=Europe/Berlin:20260320T210000
DTSTAMP:20260422T213407
CREATED:20260315T104021Z
LAST-MODIFIED:20260315T104021Z
UID:2307-1774031400-1774040400@schalmeienmusik.de
SUMMARY:Gesamtprobe
DESCRIPTION:
URL:https://schalmeienmusik.de/event/gesamtprobe-29/
LOCATION:Saal Lindau\, Waldblick 6\, Heideland\, Thüringen\, 07613\, Deutschland
CATEGORIES:Probe
END:VEVENT
BEGIN:VEVENT
DTSTART;TZID=Europe/Berlin:20260321T150000
DTEND;TZID=Europe/Berlin:20260321T170000
DTSTAMP:20260422T213407
CREATED:20260118T203537Z
LAST-MODIFIED:20260309T093623Z
UID:2245-1774105200-1774112400@schalmeienmusik.de
SUMMARY:Ständchen in den Pflegeheimen Bethesda und Käthe Kollwitz
DESCRIPTION:
URL:https://schalmeienmusik.de/event/staendchen-in-den-pflegeheimen-bethesda-und-kaethe-kollwitz/
LOCATION:Eisenberg\, Eisenberg\, 07607\, Deutschland
END:VEVENT
BEGIN:VEVENT
DTSTART;TZID=Europe/Berlin:20260327T183000
DTEND;TZID=Europe/Berlin:20260327T210000
DTSTAMP:20260422T213407
CREATED:20260315T104307Z
LAST-MODIFIED:20260315T104307Z
UID:2310-1774636200-1774645200@schalmeienmusik.de
SUMMARY:Gesamtprobe
DESCRIPTION:
URL:https://schalmeienmusik.de/event/gesamtprobe-30/
LOCATION:Saal Lindau\, Waldblick 6\, Heideland\, Thüringen\, 07613\, Deutschland
CATEGORIES:Probe
END:VEVENT
END:VCALENDAR