BEGIN:VCALENDAR
VERSION:2.0
PRODID:-//Schalmeienorchester Lindau Rudelsdorf 1970 - ECPv6.15.18//NONSGML v1.0//EN
CALSCALE:GREGORIAN
METHOD:PUBLISH
X-WR-CALNAME:Schalmeienorchester Lindau Rudelsdorf 1970
X-ORIGINAL-URL:https://schalmeienmusik.de
X-WR-CALDESC:Veranstaltungen für Schalmeienorchester Lindau Rudelsdorf 1970
REFRESH-INTERVAL;VALUE=DURATION:PT1H
X-Robots-Tag:noindex
X-PUBLISHED-TTL:PT1H
BEGIN:VTIMEZONE
TZID:Europe/Berlin
BEGIN:DAYLIGHT
TZOFFSETFROM:+0100
TZOFFSETTO:+0200
TZNAME:CEST
DTSTART:20240331T010000
END:DAYLIGHT
BEGIN:STANDARD
TZOFFSETFROM:+0200
TZOFFSETTO:+0100
TZNAME:CET
DTSTART:20241027T010000
END:STANDARD
BEGIN:DAYLIGHT
TZOFFSETFROM:+0100
TZOFFSETTO:+0200
TZNAME:CEST
DTSTART:20250330T010000
END:DAYLIGHT
BEGIN:STANDARD
TZOFFSETFROM:+0200
TZOFFSETTO:+0100
TZNAME:CET
DTSTART:20251026T010000
END:STANDARD
BEGIN:DAYLIGHT
TZOFFSETFROM:+0100
TZOFFSETTO:+0200
TZNAME:CEST
DTSTART:20260329T010000
END:DAYLIGHT
BEGIN:STANDARD
TZOFFSETFROM:+0200
TZOFFSETTO:+0100
TZNAME:CET
DTSTART:20261025T010000
END:STANDARD
END:VTIMEZONE
BEGIN:VEVENT
DTSTART;TZID=Europe/Berlin:20251101T150000
DTEND;TZID=Europe/Berlin:20251101T160000
DTSTAMP:20260423T045535
CREATED:20250911T174001Z
LAST-MODIFIED:20251028T103258Z
UID:2159-1762009200-1762012800@schalmeienmusik.de
SUMMARY:Ständchen in Meuselwitz
DESCRIPTION:
URL:https://schalmeienmusik.de/event/staendchen-in-meuselwitz/
LOCATION:Meuselwitz\, Meuselwitz\, Deutschland
CATEGORIES:Veranstaltung
END:VEVENT
BEGIN:VEVENT
DTSTART;TZID=Europe/Berlin:20251114T190000
DTEND;TZID=Europe/Berlin:20251114T213000
DTSTAMP:20260423T045535
CREATED:20251110T125450Z
LAST-MODIFIED:20251110T125450Z
UID:2213-1763146800-1763155800@schalmeienmusik.de
SUMMARY:Gesamtprobe
DESCRIPTION:
URL:https://schalmeienmusik.de/event/gesamtprobe-19/
LOCATION:Saal Lindau\, Waldblick 6\, Heideland\, Thüringen\, 07613\, Deutschland
CATEGORIES:Probe
END:VEVENT
BEGIN:VEVENT
DTSTART;TZID=Europe/Berlin:20251115T123000
DTEND;TZID=Europe/Berlin:20251115T173000
DTSTAMP:20260423T045535
CREATED:20250907T145703Z
LAST-MODIFIED:20251102T171410Z
UID:2149-1763209800-1763227800@schalmeienmusik.de
SUMMARY:Faschingsumzug in Bürgel
DESCRIPTION:
URL:https://schalmeienmusik.de/event/faschingsumzug-in-buergel/
LOCATION:Thüringen
CATEGORIES:Veranstaltung
END:VEVENT
BEGIN:VEVENT
DTSTART;TZID=Europe/Berlin:20251121T183000
DTEND;TZID=Europe/Berlin:20251121T220000
DTSTAMP:20260423T045535
CREATED:20251028T104800Z
LAST-MODIFIED:20251114T220932Z
UID:2200-1763749800-1763762400@schalmeienmusik.de
SUMMARY:Wir sagen Dankeschön
DESCRIPTION:
URL:https://schalmeienmusik.de/event/wir-sagen-dankeschoen/
LOCATION:Saal Lindau\, Waldblick 6\, Heideland\, Thüringen\, 07613\, Deutschland
END:VEVENT
BEGIN:VEVENT
DTSTART;TZID=Europe/Berlin:20251122T100000
DTEND;TZID=Europe/Berlin:20251122T150000
DTSTAMP:20260423T045535
CREATED:20251028T105731Z
LAST-MODIFIED:20251114T221422Z
UID:2202-1763805600-1763823600@schalmeienmusik.de
SUMMARY:Plätzchen backen mit Anita
DESCRIPTION:
URL:https://schalmeienmusik.de/event/plaetzchen-backen-mit-anita/
LOCATION:Lindau – Ort\, Lindenstraße\, Lindau - Ort\, 07613
END:VEVENT
BEGIN:VEVENT
DTSTART;TZID=Europe/Berlin:20251128T190000
DTEND;TZID=Europe/Berlin:20251128T213000
DTSTAMP:20260423T045535
CREATED:20251110T125709Z
LAST-MODIFIED:20251110T125709Z
UID:2215-1764356400-1764365400@schalmeienmusik.de
SUMMARY:Gesamtprobe
DESCRIPTION:
URL:https://schalmeienmusik.de/event/gesamtprobe-20/
LOCATION:Saal Lindau\, Waldblick 6\, Heideland\, Thüringen\, 07613\, Deutschland
CATEGORIES:Probe
END:VEVENT
BEGIN:VEVENT
DTSTART;TZID=Europe/Berlin:20251129T153000
DTEND;TZID=Europe/Berlin:20251129T160000
DTSTAMP:20260423T045535
CREATED:20250727T122204Z
LAST-MODIFIED:20251110T163805Z
UID:2078-1764430200-1764432000@schalmeienmusik.de
SUMMARY:Weihnachtsmarkt in Gösen
DESCRIPTION:
URL:https://schalmeienmusik.de/event/weihnachtsmarkt-in-goesen/
LOCATION:Gösen\, Dorfstr. 6a\, Gösen\, 07607
CATEGORIES:Veranstaltung
END:VEVENT
END:VCALENDAR