BEGIN:VCALENDAR
VERSION:2.0
PRODID:-//Schalmeienorchester Lindau Rudelsdorf 1970 - ECPv6.15.18//NONSGML v1.0//EN
CALSCALE:GREGORIAN
METHOD:PUBLISH
X-WR-CALNAME:Schalmeienorchester Lindau Rudelsdorf 1970
X-ORIGINAL-URL:https://schalmeienmusik.de
X-WR-CALDESC:Veranstaltungen für Schalmeienorchester Lindau Rudelsdorf 1970
REFRESH-INTERVAL;VALUE=DURATION:PT1H
X-Robots-Tag:noindex
X-PUBLISHED-TTL:PT1H
BEGIN:VTIMEZONE
TZID:Europe/Berlin
BEGIN:DAYLIGHT
TZOFFSETFROM:+0100
TZOFFSETTO:+0200
TZNAME:CEST
DTSTART:20240331T010000
END:DAYLIGHT
BEGIN:STANDARD
TZOFFSETFROM:+0200
TZOFFSETTO:+0100
TZNAME:CET
DTSTART:20241027T010000
END:STANDARD
BEGIN:DAYLIGHT
TZOFFSETFROM:+0100
TZOFFSETTO:+0200
TZNAME:CEST
DTSTART:20250330T010000
END:DAYLIGHT
BEGIN:STANDARD
TZOFFSETFROM:+0200
TZOFFSETTO:+0100
TZNAME:CET
DTSTART:20251026T010000
END:STANDARD
BEGIN:DAYLIGHT
TZOFFSETFROM:+0100
TZOFFSETTO:+0200
TZNAME:CEST
DTSTART:20260329T010000
END:DAYLIGHT
BEGIN:STANDARD
TZOFFSETFROM:+0200
TZOFFSETTO:+0100
TZNAME:CET
DTSTART:20261025T010000
END:STANDARD
END:VTIMEZONE
BEGIN:VEVENT
DTSTART;TZID=Europe/Berlin:20250905T170000
DTEND;TZID=Europe/Berlin:20250905T203000
DTSTAMP:20260423T083159
CREATED:20250831T112958Z
LAST-MODIFIED:20250831T112958Z
UID:2142-1757091600-1757104200@schalmeienmusik.de
SUMMARY:Grillabend
DESCRIPTION:
URL:https://schalmeienmusik.de/event/grillabend/
LOCATION:Saal Lindau\, Waldblick 6\, Heideland\, Thüringen\, 07613\, Deutschland
CATEGORIES:Probe
END:VEVENT
BEGIN:VEVENT
DTSTART;TZID=Europe/Berlin:20250906T160000
DTEND;TZID=Europe/Berlin:20250906T173000
DTSTAMP:20260423T083159
CREATED:20250216T163809Z
LAST-MODIFIED:20250830T094515Z
UID:1617-1757174400-1757179800@schalmeienmusik.de
SUMMARY:Schalmeienfest in Wetterzeube
DESCRIPTION:
URL:https://schalmeienmusik.de/event/schalmeienfest-in-wetterzeube/
LOCATION:Wetterzeube\, Wetterzeube\, Sachsen/ Anhalt\, Deutschland
CATEGORIES:Veranstaltung
END:VEVENT
BEGIN:VEVENT
DTSTART;TZID=Europe/Berlin:20250906T193000
DTEND;TZID=Europe/Berlin:20250906T203000
DTSTAMP:20260423T083159
CREATED:20250216T172342Z
LAST-MODIFIED:20250830T094628Z
UID:1635-1757187000-1757190600@schalmeienmusik.de
SUMMARY:Musikfest Spielmannszug Klengel/Serba
DESCRIPTION:
URL:https://schalmeienmusik.de/event/musikfest-spielmannszug-klengel-serba/
LOCATION:Serba\, Serba\, 07616
CATEGORIES:Veranstaltung
END:VEVENT
BEGIN:VEVENT
DTSTART;TZID=Europe/Berlin:20250912T180000
DTEND;TZID=Europe/Berlin:20250912T180000
DTSTAMP:20260423T083159
CREATED:20250907T144845Z
LAST-MODIFIED:20250909T095357Z
UID:2145-1757700000-1757700000@schalmeienmusik.de
SUMMARY:keine Probe
DESCRIPTION:
URL:https://schalmeienmusik.de/event/keine-probe-3/
LOCATION:Saal Lindau\, Waldblick 6\, Heideland\, Thüringen\, 07613\, Deutschland
CATEGORIES:Probe
END:VEVENT
BEGIN:VEVENT
DTSTART;TZID=Europe/Berlin:20250913T180000
DTEND;TZID=Europe/Berlin:20250913T200000
DTSTAMP:20260423T083159
CREATED:20250216T164330Z
LAST-MODIFIED:20250830T095344Z
UID:1619-1757786400-1757793600@schalmeienmusik.de
SUMMARY:18. Geburtstag von Phillip
DESCRIPTION:
URL:https://schalmeienmusik.de/event/18-geburtagsfeier-von-phillip/
LOCATION:Großkorbetha\, Sachsen-Anhalt
CATEGORIES:Geburtstag
END:VEVENT
BEGIN:VEVENT
DTSTART;TZID=Europe/Berlin:20250919T180000
DTEND;TZID=Europe/Berlin:20250919T180000
DTSTAMP:20260423T083159
CREATED:20250907T145149Z
LAST-MODIFIED:20250909T095247Z
UID:2147-1758304800-1758304800@schalmeienmusik.de
SUMMARY:keine Probe
DESCRIPTION:
URL:https://schalmeienmusik.de/event/keine-probe-4/
LOCATION:Saal Lindau\, Waldblick 6\, Heideland\, Thüringen\, 07613\, Deutschland
CATEGORIES:Probe
END:VEVENT
BEGIN:VEVENT
DTSTART;TZID=Europe/Berlin:20250920T170000
DTEND;TZID=Europe/Berlin:20250920T183000
DTSTAMP:20260423T083159
CREATED:20250216T170200Z
LAST-MODIFIED:20250830T094322Z
UID:1623-1758387600-1758393000@schalmeienmusik.de
SUMMARY:60. Geburtstag von Iris
DESCRIPTION:
URL:https://schalmeienmusik.de/event/60-geburtstagsfeier-von-iris/
LOCATION:Thiemendorf – Gasthaus “Deutscher Kaiser”
CATEGORIES:Geburtstag
END:VEVENT
BEGIN:VEVENT
DTSTART;TZID=Europe/Berlin:20250926T170000
DTEND;TZID=Europe/Berlin:20250926T190000
DTSTAMP:20260423T083159
CREATED:20250907T150504Z
LAST-MODIFIED:20250915T164919Z
UID:2152-1758906000-1758913200@schalmeienmusik.de
SUMMARY:Feuerwehrfest in Großkorbetha
DESCRIPTION:
URL:https://schalmeienmusik.de/event/feuerwehrfest-in-grosskorbetha/
LOCATION:Großkorbetha\, Sachsen-Anhalt
CATEGORIES:Veranstaltung
END:VEVENT
BEGIN:VEVENT
DTSTART;TZID=Europe/Berlin:20250928T170000
DTEND;TZID=Europe/Berlin:20250928T180000
DTSTAMP:20260423T083159
CREATED:20250216T172020Z
LAST-MODIFIED:20250911T175618Z
UID:1633-1759078800-1759082400@schalmeienmusik.de
SUMMARY:Wochen-EIN-Klang Kirche Lindau
DESCRIPTION:
URL:https://schalmeienmusik.de/event/wochenendklang-kirche-lindau/
LOCATION:Lindau – Kiche\, Kirchgasse\, Lindau\, 07613\, Deutschland
CATEGORIES:Veranstaltung
END:VEVENT
END:VCALENDAR