BEGIN:VCALENDAR
VERSION:2.0
PRODID:-//Schalmeienorchester Lindau Rudelsdorf 1970 - ECPv6.15.18//NONSGML v1.0//EN
CALSCALE:GREGORIAN
METHOD:PUBLISH
X-WR-CALNAME:Schalmeienorchester Lindau Rudelsdorf 1970
X-ORIGINAL-URL:https://schalmeienmusik.de
X-WR-CALDESC:Veranstaltungen für Schalmeienorchester Lindau Rudelsdorf 1970
REFRESH-INTERVAL;VALUE=DURATION:PT1H
X-Robots-Tag:noindex
X-PUBLISHED-TTL:PT1H
BEGIN:VTIMEZONE
TZID:Europe/Berlin
BEGIN:DAYLIGHT
TZOFFSETFROM:+0100
TZOFFSETTO:+0200
TZNAME:CEST
DTSTART:20240331T010000
END:DAYLIGHT
BEGIN:STANDARD
TZOFFSETFROM:+0200
TZOFFSETTO:+0100
TZNAME:CET
DTSTART:20241027T010000
END:STANDARD
BEGIN:DAYLIGHT
TZOFFSETFROM:+0100
TZOFFSETTO:+0200
TZNAME:CEST
DTSTART:20250330T010000
END:DAYLIGHT
BEGIN:STANDARD
TZOFFSETFROM:+0200
TZOFFSETTO:+0100
TZNAME:CET
DTSTART:20251026T010000
END:STANDARD
BEGIN:DAYLIGHT
TZOFFSETFROM:+0100
TZOFFSETTO:+0200
TZNAME:CEST
DTSTART:20260329T010000
END:DAYLIGHT
BEGIN:STANDARD
TZOFFSETFROM:+0200
TZOFFSETTO:+0100
TZNAME:CET
DTSTART:20261025T010000
END:STANDARD
END:VTIMEZONE
BEGIN:VEVENT
DTSTART;TZID=Europe/Berlin:20250801T173000
DTEND;TZID=Europe/Berlin:20250801T200000
DTSTAMP:20260423T100331
CREATED:20250706T174249Z
LAST-MODIFIED:20250706T174249Z
UID:1865-1754069400-1754078400@schalmeienmusik.de
SUMMARY:Gesamtprobe
DESCRIPTION:
URL:https://schalmeienmusik.de/event/gesamtprobe-17/
LOCATION:Saal Lindau\, Waldblick 6\, Heideland\, Thüringen\, 07613\, Deutschland
CATEGORIES:Probe
END:VEVENT
BEGIN:VEVENT
DTSTART;TZID=Europe/Berlin:20250807T170000
DTEND;TZID=Europe/Berlin:20250807T190000
DTSTAMP:20260423T100331
CREATED:20250716T082351Z
LAST-MODIFIED:20250805T145251Z
UID:2040-1754586000-1754593200@schalmeienmusik.de
SUMMARY:Treff Orga-Team
DESCRIPTION:
URL:https://schalmeienmusik.de/event/treff-orga-team-2/
LOCATION:Saal Lindau\, Waldblick 6\, Heideland\, Thüringen\, 07613\, Deutschland
END:VEVENT
BEGIN:VEVENT
DTSTART;TZID=Europe/Berlin:20250808T190000
DTEND;TZID=Europe/Berlin:20250808T200000
DTSTAMP:20260423T100331
CREATED:20250802T121519Z
LAST-MODIFIED:20250802T121519Z
UID:2085-1754679600-1754683200@schalmeienmusik.de
SUMMARY:Ständchen zu Kersten seinem 50. Geburtstag
DESCRIPTION:
URL:https://schalmeienmusik.de/event/staendchen-zu-kersten-seinem-50-geburtstag/
LOCATION:Lindau – Ort\, Lindenstraße\, Lindau - Ort\, 07613
CATEGORIES:Geburtstag
END:VEVENT
BEGIN:VEVENT
DTSTART;TZID=Europe/Berlin:20250812T170000
DTEND;TZID=Europe/Berlin:20250812T190000
DTSTAMP:20260423T100331
CREATED:20250727T120316Z
LAST-MODIFIED:20250727T120316Z
UID:2074-1755018000-1755025200@schalmeienmusik.de
SUMMARY:Vorstandssitzung
DESCRIPTION:
URL:https://schalmeienmusik.de/event/vorstandssitzung-6/
LOCATION:Saal Lindau\, Waldblick 6\, Heideland\, Thüringen\, 07613\, Deutschland
CATEGORIES:Vorstandssitzung
END:VEVENT
BEGIN:VEVENT
DTSTART;TZID=Europe/Berlin:20250815T170000
DTEND;TZID=Europe/Berlin:20250815T190000
DTSTAMP:20260423T100331
CREATED:20250803T115302Z
LAST-MODIFIED:20250810T172600Z
UID:2091-1755277200-1755284400@schalmeienmusik.de
SUMMARY:Gesamtprobe
DESCRIPTION:
URL:https://schalmeienmusik.de/event/gesamtprobe-18/
LOCATION:Saal Lindau\, Waldblick 6\, Heideland\, Thüringen\, 07613\, Deutschland
CATEGORIES:Probe
END:VEVENT
BEGIN:VEVENT
DTSTART;TZID=Europe/Berlin:20250816T090000
DTEND;TZID=Europe/Berlin:20250816T180000
DTSTAMP:20260423T100331
CREATED:20250117T151255Z
LAST-MODIFIED:20250716T074659Z
UID:1585-1755334800-1755367200@schalmeienmusik.de
SUMMARY:Aufbau unseres Festzeltes
DESCRIPTION:
URL:https://schalmeienmusik.de/event/aufbau-unseres-festzeltes/
LOCATION:Rudelsdorf\, Rudelsdorf\, 07613\, Deutschland
END:VEVENT
BEGIN:VEVENT
DTSTART;TZID=Europe/Berlin:20250821T160000
DTEND;TZID=Europe/Berlin:20250821T200000
DTSTAMP:20260423T100331
CREATED:20250603T215003Z
LAST-MODIFIED:20250716T075005Z
UID:1827-1755792000-1755806400@schalmeienmusik.de
SUMMARY:Generalprobe für unser Fest
DESCRIPTION:
URL:https://schalmeienmusik.de/event/generalprobe-fuer-unser-fest/
LOCATION:Rudelsdorf\, Rudelsdorf\, 07613\, Deutschland
CATEGORIES:Probe
END:VEVENT
BEGIN:VEVENT
DTSTART;VALUE=DATE:20250821
DTEND;VALUE=DATE:20250823
DTSTAMP:20260423T100331
CREATED:20250716T081316Z
LAST-MODIFIED:20250819T073642Z
UID:2035-1755817200-1755903599@schalmeienmusik.de
SUMMARY:After-Work-Party
DESCRIPTION:
URL:https://schalmeienmusik.de/event/after-work-party/
LOCATION:Rudelsdorf\, Rudelsdorf\, 07613\, Deutschland
CATEGORIES:Veranstaltung
END:VEVENT
BEGIN:VEVENT
DTSTART;VALUE=DATE:20250823
DTEND;VALUE=DATE:20250824
DTSTAMP:20260423T100331
CREATED:20241029T203356Z
LAST-MODIFIED:20250819T064417Z
UID:1514-1755907200-1755993599@schalmeienmusik.de
SUMMARY:Schalmeienfest 55 Jahre SMO
DESCRIPTION:
URL:https://schalmeienmusik.de/event/event-zu-55-jahre-smo/
LOCATION:Rudelsdorf\, Rudelsdorf\, 07613\, Deutschland
CATEGORIES:Veranstaltung
END:VEVENT
BEGIN:VEVENT
DTSTART;VALUE=DATE:20250823
DTEND;VALUE=DATE:20250825
DTSTAMP:20260423T100331
CREATED:20250603T214748Z
LAST-MODIFIED:20250716T081744Z
UID:1825-1755990000-1756076399@schalmeienmusik.de
SUMMARY:Abbau vom Festzelt
DESCRIPTION:
URL:https://schalmeienmusik.de/event/abbau-vom-festzelt/
LOCATION:Rudelsdorf\, Rudelsdorf\, 07613\, Deutschland
END:VEVENT
BEGIN:VEVENT
DTSTART;TZID=Europe/Berlin:20250829T180000
DTEND;TZID=Europe/Berlin:20250829T200000
DTSTAMP:20260423T100331
CREATED:20250825T093454Z
LAST-MODIFIED:20250825T093454Z
UID:2125-1756490400-1756497600@schalmeienmusik.de
SUMMARY:keine Probe - Saalreinigung
DESCRIPTION:
URL:https://schalmeienmusik.de/event/keine-probe-saalreinigung/
LOCATION:Saal Lindau\, Waldblick 6\, Heideland\, Thüringen\, 07613\, Deutschland
CATEGORIES:Probe
END:VEVENT
BEGIN:VEVENT
DTSTART;TZID=Europe/Berlin:20250830T173000
DTEND;TZID=Europe/Berlin:20250830T193000
DTSTAMP:20260423T100331
CREATED:20250716T100433Z
LAST-MODIFIED:20250825T131551Z
UID:2070-1756575000-1756582200@schalmeienmusik.de
SUMMARY:Auftritt in Silbitz
DESCRIPTION:
URL:https://schalmeienmusik.de/event/auftritt-in-silbitz/
LOCATION:Silbitz\, Silbitz\, 07613
CATEGORIES:Veranstaltung
END:VEVENT
END:VCALENDAR