BEGIN:VCALENDAR
VERSION:2.0
PRODID:-//Schalmeienorchester Lindau Rudelsdorf 1970 - ECPv6.15.18//NONSGML v1.0//EN
CALSCALE:GREGORIAN
METHOD:PUBLISH
X-WR-CALNAME:Schalmeienorchester Lindau Rudelsdorf 1970
X-ORIGINAL-URL:https://schalmeienmusik.de
X-WR-CALDESC:Veranstaltungen für Schalmeienorchester Lindau Rudelsdorf 1970
REFRESH-INTERVAL;VALUE=DURATION:PT1H
X-Robots-Tag:noindex
X-PUBLISHED-TTL:PT1H
BEGIN:VTIMEZONE
TZID:Europe/Berlin
BEGIN:DAYLIGHT
TZOFFSETFROM:+0100
TZOFFSETTO:+0200
TZNAME:CEST
DTSTART:20240331T010000
END:DAYLIGHT
BEGIN:STANDARD
TZOFFSETFROM:+0200
TZOFFSETTO:+0100
TZNAME:CET
DTSTART:20241027T010000
END:STANDARD
BEGIN:DAYLIGHT
TZOFFSETFROM:+0100
TZOFFSETTO:+0200
TZNAME:CEST
DTSTART:20250330T010000
END:DAYLIGHT
BEGIN:STANDARD
TZOFFSETFROM:+0200
TZOFFSETTO:+0100
TZNAME:CET
DTSTART:20251026T010000
END:STANDARD
BEGIN:DAYLIGHT
TZOFFSETFROM:+0100
TZOFFSETTO:+0200
TZNAME:CEST
DTSTART:20260329T010000
END:DAYLIGHT
BEGIN:STANDARD
TZOFFSETFROM:+0200
TZOFFSETTO:+0100
TZNAME:CET
DTSTART:20261025T010000
END:STANDARD
END:VTIMEZONE
BEGIN:VEVENT
DTSTART;TZID=Europe/Berlin:20250701T173000
DTEND;TZID=Europe/Berlin:20250701T193000
DTSTAMP:20260423T112018
CREATED:20250612T181115Z
LAST-MODIFIED:20250612T181115Z
UID:1847-1751391000-1751398200@schalmeienmusik.de
SUMMARY:Treff Orga-Team
DESCRIPTION:
URL:https://schalmeienmusik.de/event/treff-orga-team/
LOCATION:Saal Lindau\, Waldblick 6\, Heideland\, Thüringen\, 07613\, Deutschland
END:VEVENT
BEGIN:VEVENT
DTSTART;TZID=Europe/Berlin:20250705T130000
DTEND;TZID=Europe/Berlin:20250705T170000
DTSTAMP:20260423T112018
CREATED:20250702T153530Z
LAST-MODIFIED:20250702T153530Z
UID:1862-1751720400-1751734800@schalmeienmusik.de
SUMMARY:Gesamtprobe
DESCRIPTION:
URL:https://schalmeienmusik.de/event/gesamtprobe-16/
LOCATION:Rudelsdorf\, Rudelsdorf\, 07613\, Deutschland
CATEGORIES:Probe
END:VEVENT
END:VCALENDAR