BEGIN:VCALENDAR
VERSION:2.0
PRODID:-//Schalmeienorchester Lindau Rudelsdorf 1970 - ECPv6.15.18//NONSGML v1.0//EN
CALSCALE:GREGORIAN
METHOD:PUBLISH
X-WR-CALNAME:Schalmeienorchester Lindau Rudelsdorf 1970
X-ORIGINAL-URL:https://schalmeienmusik.de
X-WR-CALDESC:Veranstaltungen für Schalmeienorchester Lindau Rudelsdorf 1970
REFRESH-INTERVAL;VALUE=DURATION:PT1H
X-Robots-Tag:noindex
X-PUBLISHED-TTL:PT1H
BEGIN:VTIMEZONE
TZID:Europe/Berlin
BEGIN:DAYLIGHT
TZOFFSETFROM:+0100
TZOFFSETTO:+0200
TZNAME:CEST
DTSTART:20240331T010000
END:DAYLIGHT
BEGIN:STANDARD
TZOFFSETFROM:+0200
TZOFFSETTO:+0100
TZNAME:CET
DTSTART:20241027T010000
END:STANDARD
BEGIN:DAYLIGHT
TZOFFSETFROM:+0100
TZOFFSETTO:+0200
TZNAME:CEST
DTSTART:20250330T010000
END:DAYLIGHT
BEGIN:STANDARD
TZOFFSETFROM:+0200
TZOFFSETTO:+0100
TZNAME:CET
DTSTART:20251026T010000
END:STANDARD
BEGIN:DAYLIGHT
TZOFFSETFROM:+0100
TZOFFSETTO:+0200
TZNAME:CEST
DTSTART:20260329T010000
END:DAYLIGHT
BEGIN:STANDARD
TZOFFSETFROM:+0200
TZOFFSETTO:+0100
TZNAME:CET
DTSTART:20261025T010000
END:STANDARD
END:VTIMEZONE
BEGIN:VEVENT
DTSTART;TZID=Europe/Berlin:20250603T173000
DTEND;TZID=Europe/Berlin:20250603T193000
DTSTAMP:20260423T123856
CREATED:20250520T172830Z
LAST-MODIFIED:20250602T065300Z
UID:1768-1748971800-1748979000@schalmeienmusik.de
SUMMARY:Treffen Orga Team
DESCRIPTION:
URL:https://schalmeienmusik.de/event/treffen-orga-team-2/
LOCATION:Saal Lindau\, Waldblick 6\, Heideland\, Thüringen\, 07613\, Deutschland
END:VEVENT
BEGIN:VEVENT
DTSTART;TZID=Europe/Berlin:20250606T173000
DTEND;TZID=Europe/Berlin:20250606T200000
DTSTAMP:20260423T123856
CREATED:20250601T095809Z
LAST-MODIFIED:20250602T065605Z
UID:1807-1749231000-1749240000@schalmeienmusik.de
SUMMARY:Gesamtprobe
DESCRIPTION:
URL:https://schalmeienmusik.de/event/gesamtprobe-13/
LOCATION:Saal Lindau\, Waldblick 6\, Heideland\, Thüringen\, 07613\, Deutschland
CATEGORIES:Probe
END:VEVENT
BEGIN:VEVENT
DTSTART;TZID=Europe/Berlin:20250610T180000
DTEND;TZID=Europe/Berlin:20250610T200000
DTSTAMP:20260423T123856
CREATED:20250503T113358Z
LAST-MODIFIED:20250602T065519Z
UID:1714-1749578400-1749585600@schalmeienmusik.de
SUMMARY:Vorstandssitzung
DESCRIPTION:
URL:https://schalmeienmusik.de/event/vorstandssitzung-5/
LOCATION:Saal Lindau\, Waldblick 6\, Heideland\, Thüringen\, 07613\, Deutschland
CATEGORIES:Vorstandssitzung
END:VEVENT
BEGIN:VEVENT
DTSTART;TZID=Europe/Berlin:20250613T170000
DTEND;TZID=Europe/Berlin:20250613T200000
DTSTAMP:20260423T123856
CREATED:20250601T100937Z
LAST-MODIFIED:20250612T192342Z
UID:1809-1749834000-1749844800@schalmeienmusik.de
SUMMARY:Dorf- und Kinderfest Hainchen
DESCRIPTION:
URL:https://schalmeienmusik.de/event/dorf-und-kinderfest-hainchen/
LOCATION:Hainchen\, Hainchen\, 07619\, Deutschland
CATEGORIES:Veranstaltung
END:VEVENT
BEGIN:VEVENT
DTSTART;TZID=Europe/Berlin:20250614T130000
DTEND;TZID=Europe/Berlin:20250614T170000
DTSTAMP:20260423T123856
CREATED:20250603T215315Z
LAST-MODIFIED:20250612T181337Z
UID:1829-1749906000-1749920400@schalmeienmusik.de
SUMMARY:Gesamtprobe
DESCRIPTION:
URL:https://schalmeienmusik.de/event/gesamtprobe-14/
LOCATION:Rudelsdorf\, Rudelsdorf\, 07613\, Deutschland
CATEGORIES:Probe
END:VEVENT
BEGIN:VEVENT
DTSTART;TZID=Europe/Berlin:20250620T180000
DTEND;TZID=Europe/Berlin:20250620T180000
DTSTAMP:20260423T123856
CREATED:20250612T180711Z
LAST-MODIFIED:20250612T180711Z
UID:1843-1750442400-1750442400@schalmeienmusik.de
SUMMARY:keine Probe
DESCRIPTION:
URL:https://schalmeienmusik.de/event/keine-probe-2/
LOCATION:Thüringen
END:VEVENT
BEGIN:VEVENT
DTSTART;TZID=Europe/Berlin:20250622T143000
DTEND;TZID=Europe/Berlin:20250622T170000
DTSTAMP:20260423T123856
CREATED:20250117T150412Z
LAST-MODIFIED:20250614T164312Z
UID:1581-1750602600-1750611600@schalmeienmusik.de
SUMMARY:Musiksommer in Bad Klosterlausnitz
DESCRIPTION:
URL:https://schalmeienmusik.de/event/musiksommer-in-bad-klosterlausnitz/
LOCATION:Bad Klosterlausnitz\, Bad Klosterlausnitz\, Deutschland
CATEGORIES:Veranstaltung
END:VEVENT
BEGIN:VEVENT
DTSTART;TZID=Europe/Berlin:20250627T180000
DTEND;TZID=Europe/Berlin:20250627T200000
DTSTAMP:20260423T123856
CREATED:20250612T180946Z
LAST-MODIFIED:20250612T180946Z
UID:1845-1751047200-1751054400@schalmeienmusik.de
SUMMARY:Gesamtprobe
DESCRIPTION:
URL:https://schalmeienmusik.de/event/gesamtprobe-15/
LOCATION:Thüringen
CATEGORIES:Probe
END:VEVENT
BEGIN:VEVENT
DTSTART;TZID=Europe/Berlin:20250628T180000
DTEND;TZID=Europe/Berlin:20250628T190000
DTSTAMP:20260423T123856
CREATED:20250117T150725Z
LAST-MODIFIED:20250612T192031Z
UID:1583-1751133600-1751137200@schalmeienmusik.de
SUMMARY:30. Geburtstag von Domenic
DESCRIPTION:
URL:https://schalmeienmusik.de/event/30-geburtstagsfeier-von-domenic/
LOCATION:Königshofen – Heidetreff\, Am Sportplatz\, Königshofen\, 07613\, Deutschland
CATEGORIES:Geburtstag
END:VEVENT
END:VCALENDAR