BEGIN:VCALENDAR
VERSION:2.0
PRODID:-//Schalmeienorchester Lindau Rudelsdorf 1970 - ECPv6.15.18//NONSGML v1.0//EN
CALSCALE:GREGORIAN
METHOD:PUBLISH
X-ORIGINAL-URL:https://schalmeienmusik.de
X-WR-CALDESC:Veranstaltungen für Schalmeienorchester Lindau Rudelsdorf 1970
REFRESH-INTERVAL;VALUE=DURATION:PT1H
X-Robots-Tag:noindex
X-PUBLISHED-TTL:PT1H
BEGIN:VTIMEZONE
TZID:Europe/Berlin
BEGIN:DAYLIGHT
TZOFFSETFROM:+0100
TZOFFSETTO:+0200
TZNAME:CEST
DTSTART:20240331T010000
END:DAYLIGHT
BEGIN:STANDARD
TZOFFSETFROM:+0200
TZOFFSETTO:+0100
TZNAME:CET
DTSTART:20241027T010000
END:STANDARD
BEGIN:DAYLIGHT
TZOFFSETFROM:+0100
TZOFFSETTO:+0200
TZNAME:CEST
DTSTART:20250330T010000
END:DAYLIGHT
BEGIN:STANDARD
TZOFFSETFROM:+0200
TZOFFSETTO:+0100
TZNAME:CET
DTSTART:20251026T010000
END:STANDARD
BEGIN:DAYLIGHT
TZOFFSETFROM:+0100
TZOFFSETTO:+0200
TZNAME:CEST
DTSTART:20260329T010000
END:DAYLIGHT
BEGIN:STANDARD
TZOFFSETFROM:+0200
TZOFFSETTO:+0100
TZNAME:CET
DTSTART:20261025T010000
END:STANDARD
END:VTIMEZONE
BEGIN:VEVENT
DTSTART;TZID=Europe/Berlin:20250501T133000
DTEND;TZID=Europe/Berlin:20250501T170000
DTSTAMP:20260423T140909
CREATED:20250117T145306Z
LAST-MODIFIED:20250504T150932Z
UID:1575-1746106200-1746118800@schalmeienmusik.de
SUMMARY:Maibaumsetzten in Lindau
DESCRIPTION:
URL:https://schalmeienmusik.de/event/maibaum-setzten-in-lindau/
LOCATION:Lindau – Ort\, Lindenstraße\, Lindau - Ort\, 07613
CATEGORIES:Veranstaltung
END:VEVENT
BEGIN:VEVENT
DTSTART;TZID=Europe/Berlin:20250503T180000
DTEND;TZID=Europe/Berlin:20250503T200000
DTSTAMP:20260423T140909
CREATED:20250216T162339Z
LAST-MODIFIED:20250504T150936Z
UID:1611-1746295200-1746302400@schalmeienmusik.de
SUMMARY:Maibaumsetzen in Caaschwitz
DESCRIPTION:
URL:https://schalmeienmusik.de/event/maibaumsetzen-in-caschwitz/
LOCATION:Caschwitz\, Caschwitz\, Thüringen
CATEGORIES:Veranstaltung
END:VEVENT
BEGIN:VEVENT
DTSTART;TZID=Europe/Berlin:20250509T183000
DTEND;TZID=Europe/Berlin:20250509T210000
DTSTAMP:20260423T140909
CREATED:20250503T113020Z
LAST-MODIFIED:20250504T150814Z
UID:1710-1746815400-1746824400@schalmeienmusik.de
SUMMARY:Gesamtprobe
DESCRIPTION:
URL:https://schalmeienmusik.de/event/gesamtprobe-11/
LOCATION:Saal Lindau\, Waldblick 6\, Heideland\, Thüringen\, 07613\, Deutschland
CATEGORIES:Probe
END:VEVENT
BEGIN:VEVENT
DTSTART;TZID=Europe/Berlin:20250513T183000
DTEND;TZID=Europe/Berlin:20250513T200000
DTSTAMP:20260423T140909
CREATED:20250503T113205Z
LAST-MODIFIED:20250506T200352Z
UID:1712-1747161000-1747166400@schalmeienmusik.de
SUMMARY:Treffen Orga Team
DESCRIPTION:
URL:https://schalmeienmusik.de/event/treffen-orga-team/
LOCATION:Saal Lindau\, Waldblick 6\, Heideland\, Thüringen\, 07613\, Deutschland
CATEGORIES:Veranstaltung
END:VEVENT
BEGIN:VEVENT
DTSTART;TZID=Europe/Berlin:20250516T184500
DTEND;TZID=Europe/Berlin:20250516T200000
DTSTAMP:20260423T140909
CREATED:20250117T145814Z
LAST-MODIFIED:20250506T195620Z
UID:1577-1747421100-1747425600@schalmeienmusik.de
SUMMARY:Ständchen zur Hochzeit
DESCRIPTION:
URL:https://schalmeienmusik.de/event/staendchen-zur-hochzeit/
LOCATION:Eisenberg\, Eisenberg\, 07607\, Deutschland
CATEGORIES:Veranstaltung
END:VEVENT
BEGIN:VEVENT
DTSTART;TZID=Europe/Berlin:20250517T180000
DTEND;TZID=Europe/Berlin:20250517T190000
DTSTAMP:20260423T140909
CREATED:20250117T150134Z
LAST-MODIFIED:20250515T162222Z
UID:1579-1747504800-1747508400@schalmeienmusik.de
SUMMARY:Jugendweihe von Elias
DESCRIPTION:
URL:https://schalmeienmusik.de/event/jugendweihe-von-elias/
LOCATION:Thüringen
END:VEVENT
BEGIN:VEVENT
DTSTART;TZID=Europe/Berlin:20250523T180000
DTEND;TZID=Europe/Berlin:20250523T200000
DTSTAMP:20260423T140909
CREATED:20250515T162431Z
LAST-MODIFIED:20250515T162431Z
UID:1762-1748023200-1748030400@schalmeienmusik.de
SUMMARY:Gesamtprobe
DESCRIPTION:
URL:https://schalmeienmusik.de/event/gesamtprobe-12/
LOCATION:Saal Lindau\, Waldblick 6\, Heideland\, Thüringen\, 07613\, Deutschland
CATEGORIES:Probe
END:VEVENT
BEGIN:VEVENT
DTSTART;TZID=Europe/Berlin:20250524T163000
DTEND;TZID=Europe/Berlin:20250524T173000
DTSTAMP:20260423T140909
CREATED:20250302T142801Z
LAST-MODIFIED:20250509T152528Z
UID:1643-1748104200-1748107800@schalmeienmusik.de
SUMMARY:Ständchen zum 90. Geburtstag
DESCRIPTION:
URL:https://schalmeienmusik.de/event/staendchen-zum-90-geburtstag/
LOCATION:Osterfeld\, Pretzscher Str. 20\, Osterfeld\, 06721\, Germany
END:VEVENT
BEGIN:VEVENT
DTSTART;TZID=Europe/Berlin:20250530T123000
DTEND;TZID=Europe/Berlin:20250530T160000
DTSTAMP:20260423T140909
CREATED:20250520T172621Z
LAST-MODIFIED:20250526T071638Z
UID:1765-1748608200-1748620800@schalmeienmusik.de
SUMMARY:Treffen "Team nähen"
DESCRIPTION:
URL:https://schalmeienmusik.de/event/treffen-team-naehen/
LOCATION:Saal Lindau\, Waldblick 6\, Heideland\, Thüringen\, 07613\, Deutschland
END:VEVENT
BEGIN:VEVENT
DTSTART;TZID=Europe/Berlin:20250531T143000
DTEND;TZID=Europe/Berlin:20250531T163000
DTSTAMP:20260423T140909
CREATED:20250302T143144Z
LAST-MODIFIED:20250520T172721Z
UID:1647-1748701800-1748709000@schalmeienmusik.de
SUMMARY:Stadtfest in Schkölen
DESCRIPTION:
URL:https://schalmeienmusik.de/event/stadtfest-in-schkoelen/
LOCATION:Schkölen\, Schkölen\, 07619\, Deutschland
CATEGORIES:Veranstaltung
END:VEVENT
END:VCALENDAR