BEGIN:VCALENDAR
VERSION:2.0
PRODID:-//Schalmeienorchester Lindau Rudelsdorf 1970 - ECPv6.15.18//NONSGML v1.0//EN
CALSCALE:GREGORIAN
METHOD:PUBLISH
X-ORIGINAL-URL:https://schalmeienmusik.de
X-WR-CALDESC:Veranstaltungen für Schalmeienorchester Lindau Rudelsdorf 1970
REFRESH-INTERVAL;VALUE=DURATION:PT1H
X-Robots-Tag:noindex
X-PUBLISHED-TTL:PT1H
BEGIN:VTIMEZONE
TZID:Europe/Berlin
BEGIN:DAYLIGHT
TZOFFSETFROM:+0100
TZOFFSETTO:+0200
TZNAME:CEST
DTSTART:20240331T010000
END:DAYLIGHT
BEGIN:STANDARD
TZOFFSETFROM:+0200
TZOFFSETTO:+0100
TZNAME:CET
DTSTART:20241027T010000
END:STANDARD
BEGIN:DAYLIGHT
TZOFFSETFROM:+0100
TZOFFSETTO:+0200
TZNAME:CEST
DTSTART:20250330T010000
END:DAYLIGHT
BEGIN:STANDARD
TZOFFSETFROM:+0200
TZOFFSETTO:+0100
TZNAME:CET
DTSTART:20251026T010000
END:STANDARD
BEGIN:DAYLIGHT
TZOFFSETFROM:+0100
TZOFFSETTO:+0200
TZNAME:CEST
DTSTART:20260329T010000
END:DAYLIGHT
BEGIN:STANDARD
TZOFFSETFROM:+0200
TZOFFSETTO:+0100
TZNAME:CET
DTSTART:20261025T010000
END:STANDARD
END:VTIMEZONE
BEGIN:VEVENT
DTSTART;VALUE=DATE:20250404
DTEND;VALUE=DATE:20250407
DTSTAMP:20260423T153807
CREATED:20250216T155413Z
LAST-MODIFIED:20250305T085446Z
UID:1609-1743724800-1743983999@schalmeienmusik.de
SUMMARY:Jugendprobenlager in Windischleuba
DESCRIPTION:
URL:https://schalmeienmusik.de/event/jugendprobenlager-in-windischleuba/
LOCATION:Thüringen
END:VEVENT
BEGIN:VEVENT
DTSTART;TZID=Europe/Berlin:20250408T183000
DTEND;TZID=Europe/Berlin:20250408T200000
DTSTAMP:20260423T153807
CREATED:20250330T145256Z
LAST-MODIFIED:20250330T145256Z
UID:1696-1744137000-1744142400@schalmeienmusik.de
SUMMARY:Treffen des Organisationsteams für unser 55 Jähriges
DESCRIPTION:
URL:https://schalmeienmusik.de/event/treffen-des-organisationsteams-fuer-unser-55-jaehriges-2/
LOCATION:Saal Lindau\, Waldblick 6\, Heideland\, Thüringen\, 07613\, Deutschland
END:VEVENT
BEGIN:VEVENT
DTSTART;TZID=Europe/Berlin:20250411T183000
DTEND;TZID=Europe/Berlin:20250411T210000
DTSTAMP:20260423T153807
CREATED:20250406T171538Z
LAST-MODIFIED:20250504T150819Z
UID:1700-1744396200-1744405200@schalmeienmusik.de
SUMMARY:Gesamtprobe
DESCRIPTION:
URL:https://schalmeienmusik.de/event/gesamtprobe-9/
LOCATION:Saal Lindau\, Waldblick 6\, Heideland\, Thüringen\, 07613\, Deutschland
CATEGORIES:Probe
END:VEVENT
BEGIN:VEVENT
DTSTART;TZID=Europe/Berlin:20250412T133000
DTEND;TZID=Europe/Berlin:20250412T163000
DTSTAMP:20260423T153807
CREATED:20250302T142101Z
LAST-MODIFIED:20250330T141830Z
UID:1638-1744464600-1744475400@schalmeienmusik.de
SUMMARY:Platzkonzert in Frauenprießnitz
DESCRIPTION:
URL:https://schalmeienmusik.de/event/platzkonzert-in-frauenpriessnitz/
LOCATION:Frauenprießnitz\, Frauenprießnitz\, 07774\, Germany
CATEGORIES:Veranstaltung
END:VEVENT
BEGIN:VEVENT
DTSTART;TZID=Europe/Berlin:20250412T193000
DTEND;TZID=Europe/Berlin:20250412T200000
DTSTAMP:20260423T153807
CREATED:20250117T144210Z
LAST-MODIFIED:20250330T142045Z
UID:1569-1744486200-1744488000@schalmeienmusik.de
SUMMARY:70. Geburtstag von Eva
DESCRIPTION:
URL:https://schalmeienmusik.de/event/70-geburtstagsfeier-von-eva/
LOCATION:Königshofen – Gaststätte\, Königshofen\, 07613\, Deutschland
CATEGORIES:Geburtstag
END:VEVENT
BEGIN:VEVENT
DTSTART;TZID=Europe/Berlin:20250422T180000
DTEND;TZID=Europe/Berlin:20250422T200000
DTSTAMP:20260423T153807
CREATED:20250330T145457Z
LAST-MODIFIED:20250418T084542Z
UID:1698-1745344800-1745352000@schalmeienmusik.de
SUMMARY:Vorstandssitzung
DESCRIPTION:
URL:https://schalmeienmusik.de/event/vorstandssitzung-4/
LOCATION:Saal Lindau\, Waldblick 6\, Heideland\, Thüringen\, 07613\, Deutschland
CATEGORIES:Vorstandssitzung
END:VEVENT
BEGIN:VEVENT
DTSTART;TZID=Europe/Berlin:20250425T183000
DTEND;TZID=Europe/Berlin:20250425T210000
DTSTAMP:20260423T153807
CREATED:20250418T084219Z
LAST-MODIFIED:20250418T084219Z
UID:1706-1745605800-1745614800@schalmeienmusik.de
SUMMARY:Gesamtprobe
DESCRIPTION:
URL:https://schalmeienmusik.de/event/gesamtprobe-10/
LOCATION:Saal Lindau\, Waldblick 6\, Heideland\, Thüringen\, 07613\, Deutschland
CATEGORIES:Probe
END:VEVENT
BEGIN:VEVENT
DTSTART;TZID=Europe/Berlin:20250426T200000
DTEND;TZID=Europe/Berlin:20250426T210000
DTSTAMP:20260423T153807
CREATED:20250117T144515Z
LAST-MODIFIED:20250411T155340Z
UID:1571-1745697600-1745701200@schalmeienmusik.de
SUMMARY:Fackelumzug in Kayna
DESCRIPTION:
URL:https://schalmeienmusik.de/event/fackelumzug-in-kayna/
LOCATION:Kayna\, Kayna\, Deutschland
CATEGORIES:Veranstaltung
END:VEVENT
BEGIN:VEVENT
DTSTART;TZID=Europe/Berlin:20250430T183000
DTEND;TZID=Europe/Berlin:20250430T200000
DTSTAMP:20260423T153807
CREATED:20250117T144956Z
LAST-MODIFIED:20250330T142606Z
UID:1573-1746037800-1746043200@schalmeienmusik.de
SUMMARY:Fackelumzug in Rudelsdorf
DESCRIPTION:
URL:https://schalmeienmusik.de/event/fackelumzug-in-rudelsdorf/
LOCATION:Rudelsdorf\, Rudelsdorf\, 07613\, Deutschland
CATEGORIES:Veranstaltung
END:VEVENT
END:VCALENDAR