BEGIN:VCALENDAR
VERSION:2.0
PRODID:-//Schalmeienorchester Lindau Rudelsdorf 1970 - ECPv6.15.18//NONSGML v1.0//EN
CALSCALE:GREGORIAN
METHOD:PUBLISH
X-ORIGINAL-URL:https://schalmeienmusik.de
X-WR-CALDESC:Veranstaltungen für Schalmeienorchester Lindau Rudelsdorf 1970
REFRESH-INTERVAL;VALUE=DURATION:PT1H
X-Robots-Tag:noindex
X-PUBLISHED-TTL:PT1H
BEGIN:VTIMEZONE
TZID:Europe/Berlin
BEGIN:DAYLIGHT
TZOFFSETFROM:+0100
TZOFFSETTO:+0200
TZNAME:CEST
DTSTART:20240331T010000
END:DAYLIGHT
BEGIN:STANDARD
TZOFFSETFROM:+0200
TZOFFSETTO:+0100
TZNAME:CET
DTSTART:20241027T010000
END:STANDARD
BEGIN:DAYLIGHT
TZOFFSETFROM:+0100
TZOFFSETTO:+0200
TZNAME:CEST
DTSTART:20250330T010000
END:DAYLIGHT
BEGIN:STANDARD
TZOFFSETFROM:+0200
TZOFFSETTO:+0100
TZNAME:CET
DTSTART:20251026T010000
END:STANDARD
BEGIN:DAYLIGHT
TZOFFSETFROM:+0100
TZOFFSETTO:+0200
TZNAME:CEST
DTSTART:20260329T010000
END:DAYLIGHT
BEGIN:STANDARD
TZOFFSETFROM:+0200
TZOFFSETTO:+0100
TZNAME:CET
DTSTART:20261025T010000
END:STANDARD
END:VTIMEZONE
BEGIN:VEVENT
DTSTART;TZID=Europe/Berlin:20250306T183000
DTEND;TZID=Europe/Berlin:20250306T200000
DTSTAMP:20260423T172038
CREATED:20250209T134814Z
LAST-MODIFIED:20250209T134814Z
UID:1602-1741285800-1741291200@schalmeienmusik.de
SUMMARY:Treffen des Organisationsteams für unser 55 Jähriges
DESCRIPTION:
URL:https://schalmeienmusik.de/event/treffen-des-organisationsteams-fuer-unser-55-jaehriges/
LOCATION:Saal Lindau\, Waldblick 6\, Heideland\, Thüringen\, 07613\, Deutschland
END:VEVENT
BEGIN:VEVENT
DTSTART;TZID=Europe/Berlin:20250307T183000
DTEND;TZID=Europe/Berlin:20250307T210000
DTSTAMP:20260423T172038
CREATED:20250302T150103Z
LAST-MODIFIED:20250302T150221Z
UID:1651-1741372200-1741381200@schalmeienmusik.de
SUMMARY:Gesamtprobe
DESCRIPTION:
URL:https://schalmeienmusik.de/event/gesamtprobe-7/
LOCATION:Saal Lindau\, Waldblick 6\, Heideland\, Thüringen\, 07613\, Deutschland
CATEGORIES:Probe
END:VEVENT
BEGIN:VEVENT
DTSTART;TZID=Europe/Berlin:20250314T190000
DTEND;TZID=Europe/Berlin:20250314T210000
DTSTAMP:20260423T172038
CREATED:20250309T171935Z
LAST-MODIFIED:20250309T172039Z
UID:1670-1741978800-1741986000@schalmeienmusik.de
SUMMARY:keine Probe
DESCRIPTION:
URL:https://schalmeienmusik.de/event/keine-probe/
LOCATION:Thüringen
END:VEVENT
BEGIN:VEVENT
DTSTART;TZID=Europe/Berlin:20250318T180000
DTEND;TZID=Europe/Berlin:20250318T200000
DTSTAMP:20260423T172038
CREATED:20250209T135002Z
LAST-MODIFIED:20250209T135002Z
UID:1604-1742320800-1742328000@schalmeienmusik.de
SUMMARY:Vorstandssitzung
DESCRIPTION:
URL:https://schalmeienmusik.de/event/vorstandssitzung-3/
LOCATION:Saal Lindau\, Waldblick 6\, Heideland\, Thüringen\, 07613\, Deutschland
CATEGORIES:Vorstandssitzung
END:VEVENT
BEGIN:VEVENT
DTSTART;TZID=Europe/Berlin:20250321T183000
DTEND;TZID=Europe/Berlin:20250321T210000
DTSTAMP:20260423T172038
CREATED:20250316T133744Z
LAST-MODIFIED:20250316T133744Z
UID:1675-1742581800-1742590800@schalmeienmusik.de
SUMMARY:Gesamtprobe
DESCRIPTION:
URL:https://schalmeienmusik.de/event/gesamtprobe-8/
LOCATION:Saal Lindau\, Waldblick 6\, Heideland\, Thüringen\, 07613\, Deutschland
CATEGORIES:Probe
END:VEVENT
BEGIN:VEVENT
DTSTART;TZID=Europe/Berlin:20250328T190000
DTEND;TZID=Europe/Berlin:20250328T210000
DTSTAMP:20260423T172038
CREATED:20250324T165428Z
LAST-MODIFIED:20250324T165428Z
UID:1680-1743188400-1743195600@schalmeienmusik.de
SUMMARY:keine Gesamtprobe / Registerprobe möglich
DESCRIPTION:
URL:https://schalmeienmusik.de/event/keine-gesamtprobe-registerprobe-moeglich/
LOCATION:Thüringen
CATEGORIES:Probe
END:VEVENT
END:VCALENDAR