BEGIN:VCALENDAR
VERSION:2.0
PRODID:-//Schalmeienorchester Lindau Rudelsdorf 1970 - ECPv6.15.18//NONSGML v1.0//EN
CALSCALE:GREGORIAN
METHOD:PUBLISH
X-WR-CALNAME:Schalmeienorchester Lindau Rudelsdorf 1970
X-ORIGINAL-URL:https://schalmeienmusik.de
X-WR-CALDESC:Veranstaltungen für Schalmeienorchester Lindau Rudelsdorf 1970
REFRESH-INTERVAL;VALUE=DURATION:PT1H
X-Robots-Tag:noindex
X-PUBLISHED-TTL:PT1H
BEGIN:VTIMEZONE
TZID:Europe/Berlin
BEGIN:DAYLIGHT
TZOFFSETFROM:+0100
TZOFFSETTO:+0200
TZNAME:CEST
DTSTART:20250330T010000
END:DAYLIGHT
BEGIN:STANDARD
TZOFFSETFROM:+0200
TZOFFSETTO:+0100
TZNAME:CET
DTSTART:20251026T010000
END:STANDARD
BEGIN:DAYLIGHT
TZOFFSETFROM:+0100
TZOFFSETTO:+0200
TZNAME:CEST
DTSTART:20260329T010000
END:DAYLIGHT
BEGIN:STANDARD
TZOFFSETFROM:+0200
TZOFFSETTO:+0100
TZNAME:CET
DTSTART:20261025T010000
END:STANDARD
BEGIN:DAYLIGHT
TZOFFSETFROM:+0100
TZOFFSETTO:+0200
TZNAME:CEST
DTSTART:20270328T010000
END:DAYLIGHT
BEGIN:STANDARD
TZOFFSETFROM:+0200
TZOFFSETTO:+0100
TZNAME:CET
DTSTART:20271031T010000
END:STANDARD
END:VTIMEZONE
BEGIN:VEVENT
DTSTART;TZID=Europe/Berlin:20260424T183000
DTEND;TZID=Europe/Berlin:20260424T210000
DTSTAMP:20260422T104954
CREATED:20260419T173001Z
LAST-MODIFIED:20260419T173203Z
UID:2339-1777055400-1777064400@schalmeienmusik.de
SUMMARY:keine Gesamtprobe\, dafür Registerprobe
DESCRIPTION:
URL:https://schalmeienmusik.de/event/keine-gesamtprobe-dafuer-registerprobe/
LOCATION:Saal Lindau\, Waldblick 6\, Heideland\, Thüringen\, 07613\, Deutschland
CATEGORIES:Probe
END:VEVENT
BEGIN:VEVENT
DTSTART;TZID=Europe/Berlin:20260425T200000
DTEND;TZID=Europe/Berlin:20260425T210000
DTSTAMP:20260422T104954
CREATED:20260118T204709Z
LAST-MODIFIED:20260322T185345Z
UID:2247-1777147200-1777150800@schalmeienmusik.de
SUMMARY:Fackelumzug der Feuerwehr Kayna
DESCRIPTION:
URL:https://schalmeienmusik.de/event/feuerwehr-umzug-kayna/
LOCATION:Kayna\, Kayna\, Deutschland
END:VEVENT
BEGIN:VEVENT
DTSTART;TZID=Europe/Berlin:20260430T190000
DTEND;TZID=Europe/Berlin:20260430T203000
DTSTAMP:20260422T104954
CREATED:20260118T205210Z
LAST-MODIFIED:20260218T194452Z
UID:2250-1777575600-1777581000@schalmeienmusik.de
SUMMARY:Fackelumzug in Rudelsdorf
DESCRIPTION:
URL:https://schalmeienmusik.de/event/fackelumzug-in-rudelsdorf-2/
LOCATION:Rudelsdorf\, Rudelsdorf\, 07613\, Deutschland
END:VEVENT
BEGIN:VEVENT
DTSTART;TZID=Europe/Berlin:20260501T133000
DTEND;TZID=Europe/Berlin:20260501T170000
DTSTAMP:20260422T104954
CREATED:20260118T205520Z
LAST-MODIFIED:20260218T194150Z
UID:2252-1777642200-1777654800@schalmeienmusik.de
SUMMARY:Maibaum setzen in Lindau
DESCRIPTION:
URL:https://schalmeienmusik.de/event/maibaum-setzen-in-lindau/
LOCATION:Lindau – Ort\, Lindenstraße\, Lindau - Ort\, 07613
CATEGORIES:Veranstaltung
END:VEVENT
BEGIN:VEVENT
DTSTART;TZID=Europe/Berlin:20260509T150000
DTEND;TZID=Europe/Berlin:20260509T170000
DTSTAMP:20260422T104954
CREATED:20260118T205917Z
LAST-MODIFIED:20260218T192220Z
UID:2254-1778338800-1778346000@schalmeienmusik.de
SUMMARY:Maibaum setzen in Nausnitz
DESCRIPTION:
URL:https://schalmeienmusik.de/event/maibaum-setzen-in-nausnitz/
LOCATION:Nausnitz\, Nausnitz\, Deutschland
END:VEVENT
BEGIN:VEVENT
DTSTART;TZID=Europe/Berlin:20260530T163000
DTEND;TZID=Europe/Berlin:20260530T180000
DTSTAMP:20260422T104954
CREATED:20260205T162527Z
LAST-MODIFIED:20260413T140947Z
UID:2273-1780158600-1780164000@schalmeienmusik.de
SUMMARY:Heimatfest vom Verein Heimatfreunde in Naumburg - Almrich
DESCRIPTION:
URL:https://schalmeienmusik.de/event/vereinsfest-naumburg/
LOCATION:Naumburg\, Hauptstrasse 37\, Naumburg-Almrich\, Sachsen-Anhalt\, 06618\, Germany
CATEGORIES:Veranstaltung
END:VEVENT
BEGIN:VEVENT
DTSTART;TZID=Europe/Berlin:20260606T170000
DTEND;TZID=Europe/Berlin:20260606T203000
DTSTAMP:20260422T104954
CREATED:20260205T162814Z
LAST-MODIFIED:20260322T185555Z
UID:2275-1780765200-1780777800@schalmeienmusik.de
SUMMARY:50. Geburtstagsfest von Nadine
DESCRIPTION:
URL:https://schalmeienmusik.de/event/50-geburtstagsfest-von-nadine/
LOCATION:Thüringen
CATEGORIES:Geburtstag
END:VEVENT
BEGIN:VEVENT
DTSTART;TZID=Europe/Berlin:20260627T150000
DTEND;TZID=Europe/Berlin:20260627T160000
DTSTAMP:20260422T104954
CREATED:20260125T173000Z
LAST-MODIFIED:20260218T191323Z
UID:2259-1782572400-1782576000@schalmeienmusik.de
SUMMARY:Dorf und Kinderfest
DESCRIPTION:
URL:https://schalmeienmusik.de/event/dorf-und-kinderfest/
LOCATION:Zettweil\, Zettweil\, 06712
END:VEVENT
BEGIN:VEVENT
DTSTART;TZID=Europe/Berlin:20260822T080000
DTEND;TZID=Europe/Berlin:20260822T170000
DTSTAMP:20260422T104954
CREATED:20260413T142719Z
LAST-MODIFIED:20260413T142719Z
UID:2335-1787385600-1787418000@schalmeienmusik.de
SUMMARY:Fest der Generation im Florentiner Park in Gera
DESCRIPTION:
URL:https://schalmeienmusik.de/event/fest-der-generation-im-florentiner-park-in-gera/
LOCATION:Gera\, Julius-Sturm Strasse 1\, Gera\, Thüringen\, 07546\, Germany
CATEGORIES:Veranstaltung
END:VEVENT
END:VCALENDAR