BEGIN:VCALENDAR
VERSION:2.0
PRODID:-//Schalmeienorchester Lindau Rudelsdorf 1970 - ECPv6.15.18//NONSGML v1.0//EN
CALSCALE:GREGORIAN
METHOD:PUBLISH
X-WR-CALNAME:Schalmeienorchester Lindau Rudelsdorf 1970
X-ORIGINAL-URL:https://schalmeienmusik.de
X-WR-CALDESC:Veranstaltungen für Schalmeienorchester Lindau Rudelsdorf 1970
REFRESH-INTERVAL;VALUE=DURATION:PT1H
X-Robots-Tag:noindex
X-PUBLISHED-TTL:PT1H
BEGIN:VTIMEZONE
TZID:Europe/Berlin
BEGIN:DAYLIGHT
TZOFFSETFROM:+0100
TZOFFSETTO:+0200
TZNAME:CEST
DTSTART:20240331T010000
END:DAYLIGHT
BEGIN:STANDARD
TZOFFSETFROM:+0200
TZOFFSETTO:+0100
TZNAME:CET
DTSTART:20241027T010000
END:STANDARD
BEGIN:DAYLIGHT
TZOFFSETFROM:+0100
TZOFFSETTO:+0200
TZNAME:CEST
DTSTART:20250330T010000
END:DAYLIGHT
BEGIN:STANDARD
TZOFFSETFROM:+0200
TZOFFSETTO:+0100
TZNAME:CET
DTSTART:20251026T010000
END:STANDARD
BEGIN:DAYLIGHT
TZOFFSETFROM:+0100
TZOFFSETTO:+0200
TZNAME:CEST
DTSTART:20260329T010000
END:DAYLIGHT
BEGIN:STANDARD
TZOFFSETFROM:+0200
TZOFFSETTO:+0100
TZNAME:CET
DTSTART:20261025T010000
END:STANDARD
END:VTIMEZONE
BEGIN:VEVENT
DTSTART;TZID=Europe/Berlin:20251206T143000
DTEND;TZID=Europe/Berlin:20251206T160000
DTSTAMP:20260423T045402
CREATED:20250727T122642Z
LAST-MODIFIED:20251110T164224Z
UID:2080-1765031400-1765036800@schalmeienmusik.de
SUMMARY:Weihnachten im Seniorenheim in Leipzig
DESCRIPTION:
URL:https://schalmeienmusik.de/event/weihnachten-im-seniorenheim-in-leipzig/
LOCATION:Leipzig / Schönau\, Jenaer Str. 29\, Leipzig / Schönau\, 04205\, Germany
CATEGORIES:Veranstaltung
END:VEVENT
END:VCALENDAR